BEGIN:VCALENDAR
VERSION:2.0
PRODID:-//Centrum voor bewustwording en persoonlijke ontplooiing  - ECPv6.9.0//NONSGML v1.0//EN
CALSCALE:GREGORIAN
METHOD:PUBLISH
X-ORIGINAL-URL:https://rzijn.be
X-WR-CALDESC:Events for Centrum voor bewustwording en persoonlijke ontplooiing 
REFRESH-INTERVAL;VALUE=DURATION:PT1H
X-Robots-Tag:noindex
X-PUBLISHED-TTL:PT1H
BEGIN:VTIMEZONE
TZID:UTC
BEGIN:STANDARD
TZOFFSETFROM:+0000
TZOFFSETTO:+0000
TZNAME:UTC
DTSTART:20240101T000000
END:STANDARD
END:VTIMEZONE
BEGIN:VEVENT
DTSTART;TZID=UTC:20241109T000000
DTEND;TZID=UTC:20241109T160000
DTSTAMP:20260419T125608
CREATED:20240827T202506Z
LAST-MODIFIED:20240827T203845Z
UID:10000457-1731110400-1731168000@rzijn.be
SUMMARY:Kruidige Upliftende Wijze Vrouwendag Menopauze- Second spring.
DESCRIPTION:Samen delen en leren rond de menopauze (fysieke\, seksuele en emotionele veranderingen) – aangepast lichaamswerk- self-care & self-love oefeningenkruidenbereidingen op jouw maat die je mee meent naar huis. \nDe menopauze is deel van een spiritueel transformatieproces. Minder zorgen voor en meer zelfzorg\, tijd voor je ware behoeften en andere keuzes.\nVolgens de Chinese geneeskunde heeft de menopauze ook te maken met de afname van de energie van de nieren. Daarom is het belangrijk zeker ook in de aanloop van de menopauze\, om je levensstijl onder de loep te nemen. Beweging blijft belangrijk evenals je mentale en emotionele gezondheid. Leef je dicht bij jezelf? \nPlaats: Pepingen\, Kestersesteenweg 31a\nDatum : zaterdag 09/11 van 9u30 tot 16u\nInfo of afspraken:0479/94.44.61 (Kristina De Crem)\,\ninfo@sprankeling be\, www.sprankeling.be\nPrijs: €90 (alles inbegrepen: vegetarische lunch\, kruidenbereiding en info).
URL:https://rzijn.be/event/meer-in-balans-met-kundalini-yoga-2-2-2-2-2-2-2-2-2-2-2-2-2-2-3-2-2-2-2-2/
LOCATION:Kestersesteenweg 31a\, Pepingen\, Kestersesteenweg 31a\, Pepingen\, Belgium
END:VEVENT
END:VCALENDAR