BEGIN:VCALENDAR
VERSION:2.0
PRODID:-//Centrum voor bewustwording en persoonlijke ontplooiing  - ECPv6.9.0//NONSGML v1.0//EN
CALSCALE:GREGORIAN
METHOD:PUBLISH
X-WR-CALNAME:Centrum voor bewustwording en persoonlijke ontplooiing 
X-ORIGINAL-URL:https://rzijn.be
X-WR-CALDESC:Events for Centrum voor bewustwording en persoonlijke ontplooiing 
REFRESH-INTERVAL;VALUE=DURATION:PT1H
X-Robots-Tag:noindex
X-PUBLISHED-TTL:PT1H
BEGIN:VTIMEZONE
TZID:UTC
BEGIN:STANDARD
TZOFFSETFROM:+0000
TZOFFSETTO:+0000
TZNAME:UTC
DTSTART:20260101T000000
END:STANDARD
END:VTIMEZONE
BEGIN:VEVENT
DTSTART;TZID=UTC:20260425T090000
DTEND;TZID=UTC:20260426T140000
DTSTAMP:20260425T014226
CREATED:20250826T124831Z
LAST-MODIFIED:20260310T170517Z
UID:10011782-1777107600-1777212000@rzijn.be
SUMMARY:Vrouwenweekend - April 2026
DESCRIPTION:Stap binnen in een plek waar jij mag openbloeien als een prachtig\, uniek boeket. Laat je omringen door de zachtheid van bloemen: van de waterlelie die kracht put uit de modder\, tot de klaproos die ons herinnert aan de schoonheid van kwetsbaarheid. Ontdek jouw eigen bloemblaadjes\, jouw kleuren\, jouw eenvoud\, jouw vertrouwde inheemse natuur én jouw exotische durf om te verkennen. \nSamen vormen we een veld vol verbindende verhalen\, dans\, natuur\, gesprekken en momenten die je batterij opladen. Een weekend om te wortelen\, te groeien\, te ontplooien… en te stralen. \nVoel je welkom — precies zoals je bent — en bloei helemaal open. 🌸 \nPlaats: Don Bosco Zennedal \nData: 25-26/04\, inclusief overnachting \nPrijs: €222 ( €66 sociaal tarief) \n\nIk reserveer alvast een plaatsje voor dit verbindend weekend:  \n\n\n\n\nvrouwenweekend 2026\n\n\n\n\n\n\n\n\n	Naam\n		*\n	\n	\n	\n		Naam	\n\n	\n					\n				\n					Voornaam				\n\n										\n						Voornaam			\n						\n				\n					Achternaam				\n\n										\n						Achternaam			\n				\n\n\n	\n	\n\n\n	E-mail\n		*\n	\n	\n	\n	\n\n\n	Telefoon\n		\n	\n	\n	\n	\n\n\n	Ik heb interesse om deel te nemen aan het vrouwenweekend van 24-26 april 2026\n		*\n	\n						\n					 Ja\, ik neem deel aan het weekend en ik sluit aan vanaf vrijdag avond om 20u\n					\n					 Ja\, ik neem deel aan het weekend en ik sluit aan vanaf zaterdagochtend\n					\n					 Ik heb nog een vraag over het weekend alvorens in te schrijven en noteer deze hieronder\n\n	\n	\n\n\n	Opmerkingen/vragen\n		\n	\n	\n	\n	\n\n\n	\nVerzenden\n\n\n\n\n\n	\n				\n				\n					Indien je een mens bent\, laat dit veld leeg.
URL:https://rzijn.be/event/vrouwenweekend-ik-ken-een-geweldige-vrouw-2/
LOCATION:Zennedal\, Alsembergsesteenweg 130\, Buizingen\, 1501\, Belgium
ATTACH;FMTTYPE=image/jpeg:https://rzijn.be/wp-content/uploads/2024/12/vrouwenweekend3.jpg
END:VEVENT
BEGIN:VEVENT
DTSTART;TZID=UTC:20260425T093000
DTEND;TZID=UTC:20260425T123000
DTSTAMP:20260425T014226
CREATED:20251110T165811Z
LAST-MODIFIED:20251110T165811Z
UID:10011807-1777109400-1777120200@rzijn.be
SUMMARY:Wijze kracht
DESCRIPTION:Een wondermooie reeks voor 40’ers en 50’ers die willen uitwisselen\, verbinden en versterken rond het proces van de (peri)menopauze.\nWe lezen het boek Wisepower van Redschool\, komen 5 keer samen in een vrouwencirkel en laten ons de 6e keer ter integratie begeleiden in een zweethutritueel door Sara Dykmans.\nWe kijken doorheen de hele reeks systemisch naar onze overgang\, we geraken vertrouwd met de psychische en spirituele lagen van deze initiatie en vinden handvaten en vertrouwen. We worden samen wijzer en vrijer\, zachter en sterker. Erg welkom! \n\nBegeleiding: Isabel De Waele en Griet Mertens (+laatste bijeenkomst: Sara Dykmans)\nPrijs: 465 euro\nIn Elingen komen we samen op zaterdagvoormiddagen van 9u30 tot 12u30.\nDe data zijn 24/1\, 14/2\, 21/3\, 25/4\, 9/5 en 20/6. \nWe komen samen in een prachtige bewegingsruimte en laten ons omhullen en (ver)leiden door het hout\, de leem\, het zoete licht en het zicht op de groene velden. \nDe laatste zaterdag\, 20 juni\, gaan we samen de zweethut in: op die manier sluiten we deze reeks in schoonheid af. \nGriet Mertens (Wisdom of Movement) is de hele reeks co-begeleider\, de zweethut op het einde wordt begeleid door Sara Dykmans (WildeVlechten). \nAlle info en inschrijvingen: https://www.wildewijzevrouw.be/wijzekracht\n\nLocatie: wisdomofmovement in Elingen
URL:https://rzijn.be/event/wijze-kracht/2026-04-25/
LOCATION:Elingen\, Hoekstraat 16\, Elingen\, 1671\, Belgium
ATTACH;FMTTYPE=image/png:https://rzijn.be/wp-content/uploads/2025/11/image-10.png
END:VEVENT
BEGIN:VEVENT
DTSTART;TZID=UTC:20260425T093000
DTEND;TZID=UTC:20260425T123000
DTSTAMP:20260425T014226
CREATED:20251115T092540Z
LAST-MODIFIED:20251115T092642Z
UID:10011826-1777109400-1777120200@rzijn.be
SUMMARY:Thuiskomen in je lichaam & spelen met je lichaamswijsheid -   Marijke & Tine -  HeartYurt & Lichaamswijs
DESCRIPTION: 10 zaterdagen van 9u30 tot 12u30 van januari tot december 2026 \n echt thuiskomen in je lichaam en je lichaam volledig bewonen zodat je stroom creëert in je lichaam én in je leven \n met qigong\, jin shin jyutsu zelfhulp\, opstellingen\, djembé\, natuurbeleving\, soundhealing\, verbinding en veel levensvreugde \n elke maand een nieuw thema\, van je wortels tot je vleugels \n meer info hier: https://www.lichaamswijs.com/agenda/jaartraject-thuiskomen-in-je-lichaam \nData: \n\n10.01.2026\n07.02.2026\n07.03.2026\n25.04.2026\n23.05.2026\n27.06.2026\n12.09.2026\n17.10.2026\n14.11.2026\n12.12.2026
URL:https://rzijn.be/event/thuiskomen-in-je-lichaam-spelen-met-je-lichaamswijsheid-marijke-tine-heartyurt-lichaamswijs/2026-04-25/
LOCATION:HeartYurt en/of in de natuur.\, Essenbeek
ATTACH;FMTTYPE=image/jpeg:https://rzijn.be/wp-content/uploads/2025/11/1000083756-1-scaled.jpg
END:VEVENT
BEGIN:VEVENT
DTSTART;TZID=UTC:20260425T130000
DTEND;TZID=UTC:20260425T160000
DTSTAMP:20260425T014226
CREATED:20251207T153900Z
LAST-MODIFIED:20251207T153900Z
UID:10011886-1777122000-1777132800@rzijn.be
SUMMARY:Kennismaken met Neurographica : Een duik in het onderbewuste
DESCRIPTION:Neurographica bestaat sinds 2014 en is een manier van tekenen ontworpen door doctor in de psychologie Pavel Piskarev. Neurographica maakt gebruik van eenvoudige tekentechnieken om je inzicht te geven in wat er zich in je onbewuste\, emotionele brein afspeelt. Een techniek die uitmunt in zijn eenvoud. Je kan het altijd\, overal toepassen. Het enige wat je nodig hebt is een markeerstift\, een pen\, potloden\, papier en de nieuwsgierigheid om jezelf beter te leren kennen. \nWanneer: 31/01/2026 of 28/02/2026 of 28/03/2026 of 25/04/2026  telkens van 13u tot 16u \nWaar: Lot\, Sollenberg 44 \nBijdrage:  40€ \nInschrijven:Mail naar ayla.martel@telenet.be of www.authentika.be \nAyla Martel
URL:https://rzijn.be/event/kennismaken-met-neurographica-een-duik-in-het-onderbewuste/2026-04-25/
LOCATION:LOT\, Sollenberg 44\, Lot
ATTACH;FMTTYPE=image/jpeg:https://rzijn.be/wp-content/uploads/2025/12/untitled-31-copy-Ayla-Martel-scaled.jpg
ORGANIZER;CN="Ayla Martel":MAILTO:ayla.martel@telenet.be
END:VEVENT
BEGIN:VEVENT
DTSTART;TZID=UTC:20260425T140000
DTEND;TZID=UTC:20260425T153000
DTSTAMP:20260425T014226
CREATED:20251220T214538Z
LAST-MODIFIED:20251220T214559Z
UID:10012161-1777125600-1777131000@rzijn.be
SUMMARY:Ouder - kind aromatherapie workshop
DESCRIPTION:Een moment van verbinding en creativiteit.  \nKom gezellig samen met je kind de wereld van de aromatherapie ontdekken. Tijdens deze workshop maak je op een leuke en ontspannen manier kennis met essentiële oliën en hun effect op lichaam en geest. Jullie gaan elk een persoonlijke roller of inhalatiestick creëren\, helemaal afgestemd op jullie eigen voorkeuren. Daarnaast maken jullie ook een hydrolatenspray om mee naar huis te nemen. \nPlaats: Sint-Rochusstraat 15 – 1500 Halle \nDatum: 25/04 van14u – 15u30 \nvoor latere workshops verwijs ik je naar mijn site of instagrampagina @ju.lie.leclercq \nInfo en inschrijvingen:  bij Julie Leclercq : 0477/21.05.61 of julie_leclercq005@hotmail.com \nPrijs: €40 per duo (€5 per extra kind)
URL:https://rzijn.be/event/ouder-kind-aromatherapie-workshop/
LOCATION:Sint-Rochusstraat 15 – 1500 Halle\, Belgium
ATTACH;FMTTYPE=image/jpeg:https://rzijn.be/wp-content/uploads/2025/12/thumbnail_IMG_5922-Julie-Leclercq.jpg
END:VEVENT
END:VCALENDAR