BEGIN:VCALENDAR
VERSION:2.0
PRODID:-//Centrum voor bewustwording en persoonlijke ontplooiing  - ECPv6.9.0//NONSGML v1.0//EN
CALSCALE:GREGORIAN
METHOD:PUBLISH
X-WR-CALNAME:Centrum voor bewustwording en persoonlijke ontplooiing 
X-ORIGINAL-URL:https://rzijn.be
X-WR-CALDESC:Events for Centrum voor bewustwording en persoonlijke ontplooiing 
REFRESH-INTERVAL;VALUE=DURATION:PT1H
X-Robots-Tag:noindex
X-PUBLISHED-TTL:PT1H
BEGIN:VTIMEZONE
TZID:UTC
BEGIN:STANDARD
TZOFFSETFROM:+0000
TZOFFSETTO:+0000
TZNAME:UTC
DTSTART:20260101T000000
END:STANDARD
END:VTIMEZONE
BEGIN:VEVENT
DTSTART;TZID=UTC:20260424T103000
DTEND;TZID=UTC:20260424T190000
DTSTAMP:20260424T013017
CREATED:20251220T183922Z
LAST-MODIFIED:20251220T184248Z
UID:10012154-1777026600-1777057200@rzijn.be
SUMMARY:Voetreflexologie
DESCRIPTION:Ontspannend: stress\, verdriet\, trauma’s\, verlichting in hoofd en lichaam\, zwangerschap.\nTherapeutisch: zwangerschap\, chemo\, depressie\, burn-out\, vermoeidheid\, spier-/gewrichts-en zenuwpijn\, lymfedrainage\, spijsvertering\, rugklachten\, slaapstoornissen\,… \nHet Reflex-O-Team heet je welkom ! \n  \n\nData: Elke 2de en 4de vrijdag van de maand\nvan 10u30-12u30\, 13u-17u en 18u-19u\nPlaats: Don Bosco Zennedal Buizingen\nInfo en afspraken: Gerty 0494/29.06.22 \nVoetreflexologie
URL:https://rzijn.be/event/voetreflexologie-2-2-2-2-2-2-2-2-2-2-2-2-2-2-2-2-2-2/2026-04-24/
LOCATION:Zennedal\, Alsembergsesteenweg 130\, Buizingen\, 1501\, Belgium
CATEGORIES:Massage
ATTACH;FMTTYPE=image/jpeg:https://rzijn.be/wp-content/uploads/2024/12/voeten-.jpg
END:VEVENT
BEGIN:VEVENT
DTSTART;TZID=UTC:20260424T193000
DTEND;TZID=UTC:20260424T203000
DTSTAMP:20260424T013017
CREATED:20251214T210234Z
LAST-MODIFIED:20251214T210358Z
UID:10012011-1777059000-1777062600@rzijn.be
SUMMARY:Djembé
DESCRIPTION:Djembé-Time (10-lessenreeks) ism. Paco Diatta. \n\n\n\nWil jij ook alles loslaten op het ritme van de Djembé? In verbinding de West-Afrikaanse ritmes stapje voor stapje aanleren. \n\n\nGeen ervaring vereist. \n\n\nAmbiance & plezier verzekerd♡ \n\n\n\n\nPlaats: HeartYurt te Essenbeek\, 1500 Halle \n\n\nData: 06/02\, 12/02\, 27/02\, 05/03\, 20/03\, 27/03\, 03/04\, 24/04\, 30/04 \n\n\n19.30u-20.30u \n\n\nPrijs: €220 voor 10-lessenreeks Djembé \n\n\nInfo en inschrijvingen: pm Fb.HeartYurt + insta: Heartyurt of Heartyurt@yahoo.com of 0475/20.23.07 \n\n\n\n\n\n\nMarijke Claes \n\n\n\nDjembé-Time @HeartYurt Essenbeek.
URL:https://rzijn.be/event/djembe/2026-04-24/
ATTACH;FMTTYPE=image/jpeg:https://rzijn.be/wp-content/uploads/2025/12/RzijnFestijn-212-Copy.jpg
END:VEVENT
END:VCALENDAR