BEGIN:VCALENDAR
VERSION:2.0
PRODID:-//Centrum voor bewustwording en persoonlijke ontplooiing  - ECPv6.9.0//NONSGML v1.0//EN
CALSCALE:GREGORIAN
METHOD:PUBLISH
X-WR-CALNAME:Centrum voor bewustwording en persoonlijke ontplooiing 
X-ORIGINAL-URL:https://rzijn.be
X-WR-CALDESC:Events for Centrum voor bewustwording en persoonlijke ontplooiing 
REFRESH-INTERVAL;VALUE=DURATION:PT1H
X-Robots-Tag:noindex
X-PUBLISHED-TTL:PT1H
BEGIN:VTIMEZONE
TZID:UTC
BEGIN:STANDARD
TZOFFSETFROM:+0000
TZOFFSETTO:+0000
TZNAME:UTC
DTSTART:20260101T000000
END:STANDARD
END:VTIMEZONE
BEGIN:VEVENT
DTSTART;TZID=UTC:20260422T093000
DTEND;TZID=UTC:20260422T110000
DTSTAMP:20260422T023609
CREATED:20251207T150932Z
LAST-MODIFIED:20251207T150932Z
UID:10011877-1776850200-1776855600@rzijn.be
SUMMARY:Dansen als medicijn: Open sessies voor mensen met een chronische aandoening.
DESCRIPTION:Doorheen deze dans-en beweegsessies leggen we de focus op de mogelijkheden die je als persoon hebt om in beweging te komen. Dansen is een medicijn. Je wordt er vitaler\, krachtiger en gelukkiger van! Ook muziek speelt een belangrijke rol. In deze dans-en beweegsessies staan plezier\, sociaal contact en een gerichte aanpak centraal. Je kan individueel deelnemen of je kan deelnemen met je partner/mantelzorger. \nWaneer: 04/02\, 18/2\, 04/03\, 18/03\, 01/04\, 22/04\, 13/05\, 27/05\, 03/06\, 17/06 telkens van 9u30 – 11u \nWaar: Don Bosco Buizingen \nBijdrage: €15 per persoon per sessie \nInschrijven: nadia@korusprong.be – www.korusprong.be/samana \nNadia Denayer\, Korusprong i.s.m. Samana
URL:https://rzijn.be/event/dansen-als-medicijn-open-sessies-voor-mensen-met-een-chronische-aandoening/2026-04-22/
LOCATION:Don Bosco Kerk\, Alsembergsesteenweg 130\, Buizingen\, 1501\, Belgium
ATTACH;FMTTYPE=image/jpeg:https://rzijn.be/wp-content/uploads/2024/12/dansen_nadia.jpg
ORGANIZER;CN="Nadia Denayer":MAILTO:nadia@rzijn.be
END:VEVENT
BEGIN:VEVENT
DTSTART;TZID=UTC:20260422T200000
DTEND;TZID=UTC:20260422T220000
DTSTAMP:20260422T023609
CREATED:20251215T171215Z
LAST-MODIFIED:20260324T112528Z
UID:10012164-1776888000-1776895200@rzijn.be
SUMMARY:Een verdiepend en transformerend online traject van 8 interactieve sessies voor vrouwen die opnieuw zachtheid\, rust\, intuïtie en innerlijke kracht willen voelen.
DESCRIPTION:Een transformerend traject : 3 Bronnen van Vrouwelijke Kracht  \nBen je klaar om oude patronen los te laten en voluit te kiezen voor wie je werkelijk bent? \nIn dit intensieve traject maak je een diepgaande innerlijke shift en activeer je jouw vrouwelijke kracht. \nJe werkt rond drie transformerende krachtbronnen: \n🔥 Doorbreek je innerlijke glazen plafond zodat je jezelf niet onnodig klein houdt\nHerken en ontmantel onzichtbare\, saboterende overtuigingen die je klein houden. \n✨ Activeer je vrouwelijke intuïtie om vrolijk creatief in het leven te staan.\nLeer opnieuw vertrouwen op je innerlijk weten en maak keuzes vanuit helderheid en kracht. \n🤝 Verwezenlijk je dromen in verbinding om intens te genieten van het leven\nOntdek hoe je samen met anderen richting geeft aan wat in jou leeft en wil groeien. \nDit is geen theorie\, maar een ervaringsgerichte reis die je dichter brengt bij jezelf. \nVoor vrouwen die klaar zijn om hun plek in te nemen — bewust\, krachtig en authentiek. \nData: woensdags van  20u-22u- Online via Zoom\n22/4- 29/4 – 6/5- 13/5-20/5-27/5-3/6-10/6 \n  \nPrijs: €188 \nInfo en inschrijven: Rzijn.be/vrouwelijke-kracht of nathalie@rzijn.be of 0494/82.49.41 \n\n\n\n\nOnline_basistraject_In je vrouwelijke kracht staan\n\n\n\n\n\n\n\n\n	Naam\n		*\n	\n	\n	\n		Naam	\n\n	\n					\n				\n					Eerste				\n\n										\n						Eerste			\n						\n				\n					Laatste				\n\n										\n						Laatste			\n				\n\n\n	\n	\n\n\n	E-mail\n		*\n	\n	\n	\n	\n\n\n	Telefoon\n		\n	\n	\n	\n	\n\n\n	Ik laat graag weten dat\n		\n	\n						\n					 dat ik me inschrijf voor het volledig traject (  22/4\, 29/4\, 6/5\, 13/5\, 20/5\, 27/5\,3/6\,10/6) - 188€\n					\n					 dat ik aan de eerste workshop op 22/4 wens deel te nemen en dan zal beslissen om effectief in te schrijven - dit is gratis\, maar indien het traject vol is\, besef ik ook dat ik niet verder kan aansluiten.\n\n	\n	\n\n\n	Vragen of opmerkingen \n		\n	\n	\n	\n	\n\n\n	\nVerzenden\n\n\n\n\n\n	\n				\n				\n					Indien je een mens bent\, laat dit veld leeg.
URL:https://rzijn.be/event/in-je-vrouwelijke-kracht-staan-1-0-2/2026-04-22/
LOCATION:Online
ATTACH;FMTTYPE=image/jpeg:https://rzijn.be/wp-content/uploads/2025/12/Nathalie_waterval_klein.jpg
END:VEVENT
END:VCALENDAR