BEGIN:VCALENDAR
VERSION:2.0
PRODID:-//Centrum voor bewustwording en persoonlijke ontplooiing  - ECPv6.9.0//NONSGML v1.0//EN
CALSCALE:GREGORIAN
METHOD:PUBLISH
X-WR-CALNAME:Centrum voor bewustwording en persoonlijke ontplooiing 
X-ORIGINAL-URL:https://rzijn.be
X-WR-CALDESC:Events for Centrum voor bewustwording en persoonlijke ontplooiing 
REFRESH-INTERVAL;VALUE=DURATION:PT1H
X-Robots-Tag:noindex
X-PUBLISHED-TTL:PT1H
BEGIN:VTIMEZONE
TZID:UTC
BEGIN:STANDARD
TZOFFSETFROM:+0000
TZOFFSETTO:+0000
TZNAME:UTC
DTSTART:20260101T000000
END:STANDARD
END:VTIMEZONE
BEGIN:VEVENT
DTSTART;TZID=UTC:20260421T100000
DTEND;TZID=UTC:20260421T120000
DTSTAMP:20260421T020923
CREATED:20260331T081506Z
LAST-MODIFIED:20260331T081826Z
UID:10012180-1776765600-1776772800@rzijn.be
SUMMARY:Verdiepingstraject : In je vrouwelijke kracht staan
DESCRIPTION:Een transformerend verdiepingstraject\nJe hebt reeds het basistraject ‘In je vrouwelijke kracht staan’ gevogd en voelt nu dat het tijd is voor verdieping. In dit verdiepingstraject verruimen we sterk ons bewustzijn. Hierbij zullen op een dieper niveau de krachtbronnen aanboren. \nWe gaan nog een laag dieper in het bewust aanwakkeren en inzetten  met onze vrouwelijke energie\, om meer te leven vanuit rust\, intuïtie en liefde. \n\n\nWorkshops  in de voormiddag of avond te volgen\n\n\n\n\n\n4 sessies die doorgaan in Kerkstraat 21\, Buizingen\nofwel op dinsdagochtend ( 10U-12u) of dinsdagavond ( 20u-22u) :\n21/04\, 28/04\, 05/05\, 12/05\nKerkstraat 21\, Buizingen\nPrijs: voor de volledige reeks van 4 workshops\n122€\n\nverd\n\n\n\nIn je vrouwelijke kracht staan_verdiepingstraject\n\n\n\n\n\n\n\n\n	Naam\n		*\n	\n	\n	\n		Naam	\n\n	\n					\n				\n					Eerste				\n\n										\n						Eerste			\n						\n				\n					Laatste				\n\n										\n						Laatste			\n				\n\n\n	\n	\n\n\n	E-mail\n		*\n	\n	\n	\n	\n\n\n	Telefoon\n		\n	\n	\n	\n	\n\n\n	Ik reserveer graag mijn plaats voor het verdiepingstraject \n		\n	\n						\n					 op dinsdags om 10u (28/04\, 5/05\, 12/05\,19/05) - 122€\n					\n					 op dinsdags om 20u (28/04\, 5/05\, 12/05\,19/05)- 122€\n\n	\n	\n\n\n	Vragen of opmerkingen \n		\n	\n	\n	\n	\n\n\n	\nVerzenden\n\n\n\n\n\n	\n				\n				\n					Indien je een mens bent\, laat dit veld leeg.
URL:https://rzijn.be/event/verdiepingstraject-in-je-vrouwelijke-kracht-staan/2026-04-21/
LOCATION:Bij Nathalie thuis\, Kerkstraat 21\, Buizingen\, 1501\, Belgium
ATTACH;FMTTYPE=image/jpeg:https://rzijn.be/wp-content/uploads/2026/02/20240914_115757-scaled.jpg
END:VEVENT
BEGIN:VEVENT
DTSTART;TZID=UTC:20260421T193000
DTEND;TZID=UTC:20260421T210000
DTSTAMP:20260421T020924
CREATED:20251208T133628Z
LAST-MODIFIED:20251208T133628Z
UID:10011895-1776799800-1776805200@rzijn.be
SUMMARY:Qigong (Zhineng Qigong)
DESCRIPTION:Qigong is het best te omschrijven als meditatie in beweging. Zhineng Qigong werd destijds door de Chinese overheid erkend als de meest helende qigongvorm. Gedurende 5 sessies leer je de ‘Lift Qi Up\, Pour Qi Down’ en de ‘Three Centres Merge Method’. Dit zijn de 2 basisoefeningen van Zhineng Qigong. \nwanneer: 21/04/2026 – 05/05/2026 – 19/05/2026 – 02/06/2026 – 16/06/2026 telkens van 19u30 tot 21u \nwaar:Praktijk Lichaamswijs Alsemberg \nbijdrage: 111€ voor de 5 sessies \ninschrijven: www.lichaamswijs.com/agenda of tine@lichaamswijs.com of 0494/81.40.78 \nAangeboden door: Tine Derick\, Lichaamswijs
URL:https://rzijn.be/event/qigong-zhineng-qigong/2026-04-21/
LOCATION:Praktijk Lichaamswijs Alsemberg\, Alsemberg
ATTACH;FMTTYPE=image/jpeg:https://rzijn.be/wp-content/uploads/2025/12/6M26870-Tine-Derick-scaled.jpg
END:VEVENT
BEGIN:VEVENT
DTSTART;TZID=UTC:20260421T200000
DTEND;TZID=UTC:20260421T220000
DTSTAMP:20260421T020924
CREATED:20251214T120629Z
LAST-MODIFIED:20251214T120817Z
UID:10011988-1776801600-1776808800@rzijn.be
SUMMARY:BIODANZA DANS VAN HET LEVEN
DESCRIPTION:Creatief dansen vanuit je hart. \nBiodanza\, een dansvorm die je verbindt met de rijkdom van het leven. Door muziek en beweging laat je stress los\, voel je je vitaler en kom je helemaal in harmonie. Het is een uitnodiging om jezelf te zijn\, samenhorigheid te ervaren en liefde en respect te laten groeien. Hou je van dansen\, muziek en ontmoeting? Dan is Biodanza een ervaring die je niet mag missen !!! \n  \nPlaats: Elingen \nData: iedere dinsdag vanaf 6/1 tot en met 16/6 behalve tijdens de schoolvakanties van 20u tot 22u \nPrijs: 22€ /les of 10 beurten kaart 170€ \nInschrijven en info: myriam.demol@hotmail.be of 0473473782
URL:https://rzijn.be/event/biodanza-dans-van-het-leven/2026-04-21/
LOCATION:Elingen\, Hoekstraat 16\, Elingen\, 1671\, Belgium
ATTACH;FMTTYPE=image/jpeg:https://rzijn.be/wp-content/uploads/2025/12/IMG_6134-myriam-demol.jpg
ORGANIZER;CN="Myriam Demol":MAILTO:myriam.demol@hotmail.be
END:VEVENT
BEGIN:VEVENT
DTSTART;TZID=UTC:20260421T200000
DTEND;TZID=UTC:20260421T220000
DTSTAMP:20260421T020924
CREATED:20260331T081554Z
LAST-MODIFIED:20260331T081738Z
UID:10012245-1776801600-1776808800@rzijn.be
SUMMARY:Verdiepingstraject : In je vrouwelijke kracht staan
DESCRIPTION:Een transformerend verdiepingstraject\nJe hebt reeds het basistraject ‘In je vrouwelijke kracht staan’ gevogd en voelt nu dat het tijd is voor verdieping. In dit verdiepingstraject verruimen we sterk ons bewustzijn. Hierbij zullen op een dieper niveau de krachtbronnen aanboren. \nWe gaan nog een laag dieper in het bewust aanwakkeren en inzetten  met onze vrouwelijke energie\, om meer te leven vanuit rust\, intuïtie en liefde. \n\n\nWorkshops  in de voormiddag of avond te volgen\n\n\n\n\n\n4 sessies die doorgaan in Kerkstraat 21\, Buizingen\nofwel op dinsdagochtend ( 10U-12u) of dinsdagavond ( 20u-22u) :\n21/04\, 28/04\, 05/05\, 12/05\nKerkstraat 21\, Buizingen\nPrijs: voor de volledige reeks van 4 workshops\n122€\n\nverd\n\n\n\nIn je vrouwelijke kracht staan_verdiepingstraject\n\n\n\n\n\n\n\n\n	Naam\n		*\n	\n	\n	\n		Naam	\n\n	\n					\n				\n					Eerste				\n\n										\n						Eerste			\n						\n				\n					Laatste				\n\n										\n						Laatste			\n				\n\n\n	\n	\n\n\n	E-mail\n		*\n	\n	\n	\n	\n\n\n	Telefoon\n		\n	\n	\n	\n	\n\n\n	Ik reserveer graag mijn plaats voor het verdiepingstraject \n		\n	\n						\n					 op dinsdags om 10u (28/04\, 5/05\, 12/05\,19/05) - 122€\n					\n					 op dinsdags om 20u (28/04\, 5/05\, 12/05\,19/05)- 122€\n\n	\n	\n\n\n	Vragen of opmerkingen \n		\n	\n	\n	\n	\n\n\n	\nVerzenden\n\n\n\n\n\n	\n				\n				\n					Indien je een mens bent\, laat dit veld leeg.
URL:https://rzijn.be/event/verdiepingstraject-in-je-vrouwelijke-kracht-staan-2/2026-04-21/
LOCATION:Bij Nathalie thuis\, Kerkstraat 21\, Buizingen\, 1501\, Belgium
ATTACH;FMTTYPE=image/jpeg:https://rzijn.be/wp-content/uploads/2026/02/20240914_115757-scaled.jpg
END:VEVENT
END:VCALENDAR