BEGIN:VCALENDAR
VERSION:2.0
PRODID:-//Centrum voor bewustwording en persoonlijke ontplooiing  - ECPv6.9.0//NONSGML v1.0//EN
CALSCALE:GREGORIAN
METHOD:PUBLISH
X-WR-CALNAME:Centrum voor bewustwording en persoonlijke ontplooiing 
X-ORIGINAL-URL:https://rzijn.be
X-WR-CALDESC:Events for Centrum voor bewustwording en persoonlijke ontplooiing 
REFRESH-INTERVAL;VALUE=DURATION:PT1H
X-Robots-Tag:noindex
X-PUBLISHED-TTL:PT1H
BEGIN:VTIMEZONE
TZID:UTC
BEGIN:STANDARD
TZOFFSETFROM:+0000
TZOFFSETTO:+0000
TZNAME:UTC
DTSTART:20260101T000000
END:STANDARD
END:VTIMEZONE
BEGIN:VEVENT
DTSTART;TZID=UTC:20260420T200000
DTEND;TZID=UTC:20260420T204500
DTSTAMP:20260420T020213
CREATED:20251218T152821Z
LAST-MODIFIED:20251218T153902Z
UID:10012133-1776715200-1776717900@rzijn.be
SUMMARY:Christelijke meditatie
DESCRIPTION:  \nDe grootste uitdaging voor ons om te leren mediteren is de eenvoud ervan \nMeditatie is het genezen van het oog van het hart waarmee we God kunnen zien.  Je bent welkom of je al dan niet ervaring hebt met mediteren. Gratis deelname. \n  \nMeditatie is een universele spirituele wijsheid en een praktijk die de kern vormt van alle grote religieuze tradities. \nHet is een weg van eenvoud\, stilte en verstilling. Het kan beoefend worden door iedereen die met meditatie wil beginnen. \nWekelijks maandagvond om 20u (behalve tijdens schoolvakanties)
URL:https://rzijn.be/event/christelijke-meditatie-2-3-2-2-2-2-2-2-2-2-2-2-2-2-2-2-2-2-2-2/2026-04-20/
LOCATION:Don Bosco Zennedal\, Buizingen\, Alsembergsesteenweg 130\, Buizingen\, 1501\, Belgium
ATTACH;FMTTYPE=image/jpeg:https://rzijn.be/wp-content/uploads/2023/08/meditatie-1.jpg
END:VEVENT
END:VCALENDAR